BEGIN:VCALENDAR
VERSION:2.0
PRODID:-//Sabre//Sabre VObject 4.5.8//EN
CALSCALE:GREGORIAN
BEGIN:VEVENT
UID:sabre-vobject-4b45f369-e478-4972-a9c4-d81aea4e6ce4
DTSTAMP:20260420T092846Z
SUMMARY:Dortmund Hunting Expo
DESCRIPTION:
X-ALT-DESC:FMTTYPE=text/html:<!DOCTYPE HTML PUBLIC "-//W3C//DTD HTML 3.2//E
 N"><HTML></HTML>
CREATED;TZID=Europe/Oslo:20240201T153312
URL;VALUE=URI:https://baumholder.armymwr.com/calendar/event
DTSTART;TZID=Europe/Oslo:20240203T050000
DTEND;TZID=Europe/Oslo:20240203T230000
SEQUENCE:0
END:VEVENT
END:VCALENDAR
