BEGIN:VCALENDAR
VERSION:2.0
PRODID:-//Sabre//Sabre VObject 4.5.8//EN
CALSCALE:GREGORIAN
BEGIN:VEVENT
UID:sabre-vobject-653db4d5-780e-4d36-9049-ab7e1ba3b33a
DTSTAMP:20260421T132828Z
SUMMARY:Take Me Back Tuesdays
DESCRIPTION:Calling all Xennials\, Gen Y &amp\; Gen X...\n
X-ALT-DESC:FMTTYPE=text/html:<!DOCTYPE HTML PUBLIC "-//W3C//DTD HTML 3.2//E
 N"><HTML><p>Calling all Xennials\, Gen Y &amp\; Gen X...</p>\n</HTML>
CREATED;TZID=Europe/Oslo:20250916T082216
URL;VALUE=URI:https://baumholder.armymwr.com/calendar/event
DTSTART;TZID=Europe/Oslo:20231205T170000
DTEND;TZID=Europe/Oslo:20231205T200000
SEQUENCE:0
END:VEVENT
END:VCALENDAR
