BEGIN:VCALENDAR
VERSION:2.0
PRODID:-//Sabre//Sabre VObject 4.5.8//EN
CALSCALE:GREGORIAN
BEGIN:VEVENT
UID:sabre-vobject-aaadd460-dc54-444e-8899-150193b67402
DTSTAMP:20260421T205143Z
SUMMARY:Deckin' the Halls with BOSS
DESCRIPTION:Enter the Soldier barracks door decorating contest from Dec 1 t
 o 12.&nbsp\;\n
X-ALT-DESC:FMTTYPE=text/html:<!DOCTYPE HTML PUBLIC "-//W3C//DTD HTML 3.2//E
 N"><HTML><p>Enter the Soldier barracks door decorating contest from Dec 1 
 to 12.&nbsp\;</p>\n</HTML>
CREATED;TZID=Europe/Oslo:20231129T103123
URL;VALUE=URI:https://baumholder.armymwr.com/calendar/event
DTSTART;TZID=Europe/Oslo:20231201T100000
DTEND;TZID=Europe/Oslo:20231212T110000
SEQUENCE:0
END:VEVENT
END:VCALENDAR
