BEGIN:VCALENDAR
VERSION:2.0
PRODID:-//Sabre//Sabre VObject 4.5.8//EN
CALSCALE:GREGORIAN
BEGIN:VEVENT
UID:sabre-vobject-e9e2012c-f2a0-4b38-9443-8b3332b24122
DTSTAMP:20260420T233528Z
SUMMARY:The Adventures of Mr. Toad-Auditions
DESCRIPTION:Youth Performance Class for ages 6-18\n
X-ALT-DESC:FMTTYPE=text/html:<!DOCTYPE HTML PUBLIC "-//W3C//DTD HTML 3.2//E
 N"><HTML><p>Youth Performance Class for ages 6-18</p>\n</HTML>
CREATED;TZID=Europe/Oslo:20231204T150829
URL;VALUE=URI:https://baumholder.armymwr.com/calendar/event
DTSTART;TZID=Europe/Oslo:20240103T163000
DTEND;TZID=Europe/Oslo:20240103T173000
SEQUENCE:0
END:VEVENT
BEGIN:VEVENT
UID:sabre-vobject-be90c21c-42ce-43c9-9ab1-741cd124b28c
DTSTAMP:20260420T233528Z
SUMMARY:The Adventures of Mr. Toad-Auditions
DESCRIPTION:Youth Performance Class for ages 6-18\n
X-ALT-DESC:FMTTYPE=text/html:<!DOCTYPE HTML PUBLIC "-//W3C//DTD HTML 3.2//E
 N"><HTML><p>Youth Performance Class for ages 6-18</p>\n</HTML>
CREATED;TZID=Europe/Oslo:20231204T150829
URL;VALUE=URI:https://baumholder.armymwr.com/calendar/event
DTSTART;TZID=Europe/Oslo:20240104T163000
DTEND;TZID=Europe/Oslo:20240104T173000
SEQUENCE:1
END:VEVENT
END:VCALENDAR
