BEGIN:VCALENDAR
VERSION:2.0
PRODID:-//Sabre//Sabre VObject 4.5.8//EN
CALSCALE:GREGORIAN
BEGIN:VEVENT
UID:sabre-vobject-96ef2797-11ac-45a0-916e-57d40b67e6c0
DTSTAMP:20260421T132828Z
SUMMARY:Wind Down Wednesdays
DESCRIPTION:Wednesday night belongs to the ladies at the Warrior Zone!\n
X-ALT-DESC:FMTTYPE=text/html:<!DOCTYPE HTML PUBLIC "-//W3C//DTD HTML 3.2//E
 N"><HTML><p>Wednesday night belongs to the ladies at the Warrior Zone!</p>
 \n</HTML>
CREATED;TZID=Europe/Oslo:20250916T082248
URL;VALUE=URI:https://baumholder.armymwr.com/calendar/event
DTSTART;TZID=Europe/Oslo:20231213T170000
DTEND;TZID=Europe/Oslo:20231213T200000
SEQUENCE:0
END:VEVENT
END:VCALENDAR
