BEGIN:VCALENDAR
VERSION:2.0
PRODID:-//Sabre//Sabre VObject 4.5.8//EN
CALSCALE:GREGORIAN
BEGIN:VEVENT
UID:sabre-vobject-8a9924cf-4ffb-4d48-99cb-1e1bff07834c
DTSTAMP:20260419T133717Z
SUMMARY:8 Ball Pool Tournament
DESCRIPTION:Register from Jan. 3 to Jan. 24. For ID card holders and their 
 guest 18 and older.\n
X-ALT-DESC:FMTTYPE=text/html:<!DOCTYPE HTML PUBLIC "-//W3C//DTD HTML 3.2//E
 N"><HTML><p>Register from Jan. 3 to Jan. 24. For ID card holders and their
  guest 18 and older.</p>\n</HTML>
CREATED;TZID=Europe/Oslo:20231229T091415
URL;VALUE=URI:https://baumholder.armymwr.com/calendar/event
DTSTART;TZID=Europe/Oslo:20240127T180000
DTEND;TZID=Europe/Oslo:20240127T220000
SEQUENCE:0
END:VEVENT
END:VCALENDAR
