BEGIN:VCALENDAR
VERSION:2.0
PRODID:-//Sabre//Sabre VObject 4.5.8//EN
CALSCALE:GREGORIAN
BEGIN:VEVENT
UID:sabre-vobject-4da2085f-91e4-4c10-90a2-0ede5fb0c462
DTSTAMP:20260420T052039Z
SUMMARY:Do it like Dolly Celebration
DESCRIPTION:Celebrate the Queen of Country Music on her 78th birthday.\n
X-ALT-DESC:FMTTYPE=text/html:<!DOCTYPE HTML PUBLIC "-//W3C//DTD HTML 3.2//E
 N"><HTML><p>Celebrate the Queen of Country Music on her 78th birthday.</p>
 \n</HTML>
CREATED;TZID=Europe/Oslo:20240104T140537
URL;VALUE=URI:https://baumholder.armymwr.com/calendar/event
DTSTART;TZID=Europe/Oslo:20240119T180000
DTEND;TZID=Europe/Oslo:20240119T220000
SEQUENCE:0
END:VEVENT
END:VCALENDAR
