BEGIN:VCALENDAR
VERSION:2.0
PRODID:-//Sabre//Sabre VObject 4.5.8//EN
CALSCALE:GREGORIAN
BEGIN:VEVENT
UID:sabre-vobject-2fce21c3-1306-42e3-b54d-cd94a4a7c4c0
DTSTAMP:20260420T092847Z
SUMMARY:KMC Onstage presents: The Spitfire Grill
DESCRIPTION:The Spitfire Grill\, a touching and inspiring story of persever
 ance and redemption.&nbsp\;\n
X-ALT-DESC:FMTTYPE=text/html:<!DOCTYPE HTML PUBLIC "-//W3C//DTD HTML 3.2//E
 N"><HTML><p>The Spitfire Grill\, a touching and inspiring story of perseve
 rance and redemption.&nbsp\;</p>\n</HTML>
CREATED;TZID=Europe/Oslo:20240102T093853
URL;VALUE=URI:https://baumholder.armymwr.com/calendar/event
DTSTART;TZID=Europe/Oslo:20240202T190000
DTEND;TZID=Europe/Oslo:20240202T200000
SEQUENCE:0
END:VEVENT
BEGIN:VEVENT
UID:sabre-vobject-84592ad8-75e0-4e32-8e69-af259a22a7e4
DTSTAMP:20260420T092847Z
SUMMARY:KMC Onstage presents: The Spitfire Grill
DESCRIPTION:The Spitfire Grill\, a touching and inspiring story of persever
 ance and redemption.&nbsp\;\n
X-ALT-DESC:FMTTYPE=text/html:<!DOCTYPE HTML PUBLIC "-//W3C//DTD HTML 3.2//E
 N"><HTML><p>The Spitfire Grill\, a touching and inspiring story of perseve
 rance and redemption.&nbsp\;</p>\n</HTML>
CREATED;TZID=Europe/Oslo:20240102T093853
URL;VALUE=URI:https://baumholder.armymwr.com/calendar/event
DTSTART;TZID=Europe/Oslo:20240203T190000
DTEND;TZID=Europe/Oslo:20240203T200000
SEQUENCE:1
END:VEVENT
BEGIN:VEVENT
UID:sabre-vobject-bf5c35ff-66f9-4a22-80cf-e7b83a1108bc
DTSTAMP:20260420T092847Z
SUMMARY:KMC Onstage presents: The Spitfire Grill
DESCRIPTION:The Spitfire Grill\, a touching and inspiring story of persever
 ance and redemption.&nbsp\;\n
X-ALT-DESC:FMTTYPE=text/html:<!DOCTYPE HTML PUBLIC "-//W3C//DTD HTML 3.2//E
 N"><HTML><p>The Spitfire Grill\, a touching and inspiring story of perseve
 rance and redemption.&nbsp\;</p>\n</HTML>
CREATED;TZID=Europe/Oslo:20240102T093853
URL;VALUE=URI:https://baumholder.armymwr.com/calendar/event
DTSTART;TZID=Europe/Oslo:20240204T140000
DTEND;TZID=Europe/Oslo:20240204T150000
SEQUENCE:2
END:VEVENT
BEGIN:VEVENT
UID:sabre-vobject-634ad289-12b8-4933-9cf3-f28a2384ee2e
DTSTAMP:20260420T092847Z
SUMMARY:KMC Onstage presents: The Spitfire Grill
DESCRIPTION:The Spitfire Grill\, a touching and inspiring story of persever
 ance and redemption.&nbsp\;\n
X-ALT-DESC:FMTTYPE=text/html:<!DOCTYPE HTML PUBLIC "-//W3C//DTD HTML 3.2//E
 N"><HTML><p>The Spitfire Grill\, a touching and inspiring story of perseve
 rance and redemption.&nbsp\;</p>\n</HTML>
CREATED;TZID=Europe/Oslo:20240102T093853
URL;VALUE=URI:https://baumholder.armymwr.com/calendar/event
DTSTART;TZID=Europe/Oslo:20240209T190000
DTEND;TZID=Europe/Oslo:20240209T200000
SEQUENCE:3
END:VEVENT
BEGIN:VEVENT
UID:sabre-vobject-95d75e0d-6a50-484f-b73f-9988af6ccb97
DTSTAMP:20260420T092847Z
SUMMARY:KMC Onstage presents: The Spitfire Grill
DESCRIPTION:The Spitfire Grill\, a touching and inspiring story of persever
 ance and redemption.&nbsp\;\n
X-ALT-DESC:FMTTYPE=text/html:<!DOCTYPE HTML PUBLIC "-//W3C//DTD HTML 3.2//E
 N"><HTML><p>The Spitfire Grill\, a touching and inspiring story of perseve
 rance and redemption.&nbsp\;</p>\n</HTML>
CREATED;TZID=Europe/Oslo:20240102T093853
URL;VALUE=URI:https://baumholder.armymwr.com/calendar/event
DTSTART;TZID=Europe/Oslo:20240210T190000
DTEND;TZID=Europe/Oslo:20240210T200000
SEQUENCE:4
END:VEVENT
BEGIN:VEVENT
UID:sabre-vobject-89449fdd-b455-4f6a-9890-5eb7bee8b034
DTSTAMP:20260420T092847Z
SUMMARY:KMC Onstage presents: The Spitfire Grill
DESCRIPTION:The Spitfire Grill\, a touching and inspiring story of persever
 ance and redemption.&nbsp\;\n
X-ALT-DESC:FMTTYPE=text/html:<!DOCTYPE HTML PUBLIC "-//W3C//DTD HTML 3.2//E
 N"><HTML><p>The Spitfire Grill\, a touching and inspiring story of perseve
 rance and redemption.&nbsp\;</p>\n</HTML>
CREATED;TZID=Europe/Oslo:20240102T093853
URL;VALUE=URI:https://baumholder.armymwr.com/calendar/event
DTSTART;TZID=Europe/Oslo:20240211T140000
DTEND;TZID=Europe/Oslo:20240211T150000
SEQUENCE:5
END:VEVENT
END:VCALENDAR
