BEGIN:VCALENDAR
VERSION:2.0
PRODID:-//Sabre//Sabre VObject 4.5.8//EN
CALSCALE:GREGORIAN
BEGIN:VEVENT
UID:sabre-vobject-e7a1bbd8-3dca-43c7-82a0-0b1799e8c754
DTSTAMP:20260420T052035Z
SUMMARY:National Popcorn Day
DESCRIPTION:Celebrate this fluffy treat together with the library!\n
X-ALT-DESC:FMTTYPE=text/html:<!DOCTYPE HTML PUBLIC "-//W3C//DTD HTML 3.2//E
 N"><HTML><p>Celebrate this fluffy treat together with the library!</p>\n</
 HTML>
CREATED;TZID=Europe/Oslo:20240102T155900
URL;VALUE=URI:https://baumholder.armymwr.com/calendar/event
DTSTART;TZID=Europe/Oslo:20240119T120000
DTEND;TZID=Europe/Oslo:20240119T153000
SEQUENCE:0
END:VEVENT
END:VCALENDAR
