BEGIN:VCALENDAR
VERSION:2.0
PRODID:-//Sabre//Sabre VObject 4.5.8//EN
CALSCALE:GREGORIAN
BEGIN:VEVENT
UID:sabre-vobject-b98caaaa-4548-4d4c-afad-618432692713
DTSTAMP:20260420T103800Z
SUMMARY:Palentine's Day Celebration
DESCRIPTION:Make new friends or bring your pals with you to this celebratio
 n.\n
X-ALT-DESC:FMTTYPE=text/html:<!DOCTYPE HTML PUBLIC "-//W3C//DTD HTML 3.2//E
 N"><HTML><p>Make new friends or bring your pals with you to this celebrati
 on.</p>\n</HTML>
CREATED;TZID=Europe/Oslo:20240108T114132
URL;VALUE=URI:https://baumholder.armymwr.com/calendar/event
DTSTART;TZID=Europe/Oslo:20240210T113000
DTEND;TZID=Europe/Oslo:20240210T133000
SEQUENCE:0
END:VEVENT
END:VCALENDAR
