BEGIN:VCALENDAR
VERSION:2.0
PRODID:-//Sabre//Sabre VObject 4.5.8//EN
CALSCALE:GREGORIAN
BEGIN:VEVENT
UID:sabre-vobject-daf75646-262b-48f1-bc8f-248511e66ea4
DTSTAMP:20260419T180813Z
SUMMARY:Spring Start Smart Season Registration
DESCRIPTION:Registration is Feb. 12 to March 10\, for ages 3 to 4.\n
X-ALT-DESC:FMTTYPE=text/html:<!DOCTYPE HTML PUBLIC "-//W3C//DTD HTML 3.2//E
 N"><HTML><p>Registration is Feb. 12 to March 10\, for ages 3 to 4.</p>\n</
 HTML>
CREATED;TZID=Europe/Oslo:20240130T142345
URL;VALUE=URI:https://baumholder.armymwr.com/calendar/event
DTSTART;TZID=Europe/Oslo:20240212T140000
DTEND;TZID=Europe/Oslo:20240310T150000
SEQUENCE:0
END:VEVENT
END:VCALENDAR
