BEGIN:VCALENDAR
VERSION:2.0
PRODID:-//Sabre//Sabre VObject 4.5.8//EN
CALSCALE:GREGORIAN
BEGIN:VEVENT
UID:sabre-vobject-35b8daba-b042-43da-b865-978262bf44dd
DTSTAMP:20260419T180811Z
SUMMARY:Newborn Network & Breastfeeding Cafe
DESCRIPTION:Join the New Parent Support Program and receive great info abou
 t development for your baby.\n
X-ALT-DESC:FMTTYPE=text/html:<!DOCTYPE HTML PUBLIC "-//W3C//DTD HTML 3.2//E
 N"><HTML><p>Join the New Parent Support Program and receive great info abo
 ut development for your baby.</p>\n</HTML>
CREATED;TZID=Europe/Oslo:20240205T112859
URL;VALUE=URI:https://baumholder.armymwr.com/calendar/event
DTSTART;TZID=Europe/Oslo:20240202T103000
DTEND;TZID=Europe/Oslo:20240202T120000
SEQUENCE:0
END:VEVENT
END:VCALENDAR
