BEGIN:VCALENDAR
VERSION:2.0
PRODID:-//Sabre//Sabre VObject 4.5.8//EN
CALSCALE:GREGORIAN
BEGIN:VEVENT
UID:sabre-vobject-a0550348-2278-46bf-a9f1-c880832bd09d
DTSTAMP:20260419T180811Z
SUMMARY:USA Jobs Tutorial - HYBRID
DESCRIPTION:Are you looking for a government job? ACS can help you understa
 nd the process of applying for open positions available on USA Jobs.\n
X-ALT-DESC:FMTTYPE=text/html:<!DOCTYPE HTML PUBLIC "-//W3C//DTD HTML 3.2//E
 N"><HTML><p>Are you looking for a government job? ACS can help you underst
 and the process of applying for open positions available on USA Jobs.</p>\
 n</HTML>
CREATED;TZID=Europe/Oslo:20240205T113314
URL;VALUE=URI:https://baumholder.armymwr.com/calendar/event
DTSTART;TZID=Europe/Oslo:20240206T100000
DTEND;TZID=Europe/Oslo:20240206T120000
SEQUENCE:0
END:VEVENT
END:VCALENDAR
