BEGIN:VCALENDAR
VERSION:2.0
PRODID:-//Sabre//Sabre VObject 4.5.8//EN
CALSCALE:GREGORIAN
BEGIN:VEVENT
UID:sabre-vobject-fe8c2ca0-6c29-4711-acad-f4ccbabc5db8
DTSTAMP:20260419T180810Z
SUMMARY:Stress & Anger Management Class
DESCRIPTION:Take hold&nbsp\;of your temper with Army Community Service (ACS
 ) and join this informative class on how to understand and control stress 
 and anger.\n
X-ALT-DESC:FMTTYPE=text/html:<!DOCTYPE HTML PUBLIC "-//W3C//DTD HTML 3.2//E
 N"><HTML><p>Take hold&nbsp\;of your temper with Army Community Service (AC
 S) and join this informative class on how to understand and control stress
  and anger.</p>\n</HTML>
CREATED;TZID=Europe/Oslo:20240205T140112
URL;VALUE=URI:https://baumholder.armymwr.com/calendar/event
DTSTART;TZID=Europe/Oslo:20240206T113000
DTEND;TZID=Europe/Oslo:20240206T123000
SEQUENCE:0
END:VEVENT
END:VCALENDAR
