BEGIN:VCALENDAR
VERSION:2.0
PRODID:-//Sabre//Sabre VObject 4.5.8//EN
CALSCALE:GREGORIAN
BEGIN:VEVENT
UID:sabre-vobject-e4a03849-89d0-41ed-8806-16fdb17d191c
DTSTAMP:20260425T152131Z
SUMMARY:Basic Training for New Parents - ONLINE
DESCRIPTION:Our Basic Training for New Parents Class provides essential edu
 cation on newborn care\, comforting techniques\, safe sleep practices\, an
 d more to help expecting and new parents feel confident on their parenting
  journey. Led by experienced instructors\, the interactive sessions foster
  community connections and empower you with the skills needed to thrive in
  the early weeks at home.&nbsp\;\n
X-ALT-DESC:FMTTYPE=text/html:<!DOCTYPE HTML PUBLIC "-//W3C//DTD HTML 3.2//E
 N"><HTML><p>Our Basic Training for New Parents Class provides essential ed
 ucation on newborn care\, comforting techniques\, safe sleep practices\, a
 nd more to help expecting and new parents feel confident on their parentin
 g journey. Led by experienced instructors\, the interactive sessions foste
 r community connections and empower you with the skills needed to thrive i
 n the early weeks at home.&nbsp\;</p>\n</HTML>
CREATED;TZID=Europe/Oslo:20260422T115056
URL;VALUE=URI:https://baumholder.armymwr.com/calendar/event
DTSTART;TZID=Europe/Oslo:20240220T173000
DTEND;TZID=Europe/Oslo:20240220T203000
SEQUENCE:0
END:VEVENT
BEGIN:VEVENT
UID:sabre-vobject-ea94c029-3c19-4505-b660-6394aa85d110
DTSTAMP:20260425T152131Z
SUMMARY:Basic Training for New Parents - ONLINE
DESCRIPTION:Our Basic Training for New Parents Class provides essential edu
 cation on newborn care\, comforting techniques\, safe sleep practices\, an
 d more to help expecting and new parents feel confident on their parenting
  journey. Led by experienced instructors\, the interactive sessions foster
  community connections and empower you with the skills needed to thrive in
  the early weeks at home.&nbsp\;\n
X-ALT-DESC:FMTTYPE=text/html:<!DOCTYPE HTML PUBLIC "-//W3C//DTD HTML 3.2//E
 N"><HTML><p>Our Basic Training for New Parents Class provides essential ed
 ucation on newborn care\, comforting techniques\, safe sleep practices\, a
 nd more to help expecting and new parents feel confident on their parentin
 g journey. Led by experienced instructors\, the interactive sessions foste
 r community connections and empower you with the skills needed to thrive i
 n the early weeks at home.&nbsp\;</p>\n</HTML>
CREATED;TZID=Europe/Oslo:20260422T115056
URL;VALUE=URI:https://baumholder.armymwr.com/calendar/event
DTSTART;TZID=Europe/Oslo:20240917T173000
DTEND;TZID=Europe/Oslo:20240917T203000
SEQUENCE:1
END:VEVENT
BEGIN:VEVENT
UID:sabre-vobject-d4612590-748e-4aa9-9e2e-782edc68d455
DTSTAMP:20260425T152131Z
SUMMARY:Basic Training for New Parents - ONLINE
DESCRIPTION:Our Basic Training for New Parents Class provides essential edu
 cation on newborn care\, comforting techniques\, safe sleep practices\, an
 d more to help expecting and new parents feel confident on their parenting
  journey. Led by experienced instructors\, the interactive sessions foster
  community connections and empower you with the skills needed to thrive in
  the early weeks at home.&nbsp\;\n
X-ALT-DESC:FMTTYPE=text/html:<!DOCTYPE HTML PUBLIC "-//W3C//DTD HTML 3.2//E
 N"><HTML><p>Our Basic Training for New Parents Class provides essential ed
 ucation on newborn care\, comforting techniques\, safe sleep practices\, a
 nd more to help expecting and new parents feel confident on their parentin
 g journey. Led by experienced instructors\, the interactive sessions foste
 r community connections and empower you with the skills needed to thrive i
 n the early weeks at home.&nbsp\;</p>\n</HTML>
CREATED;TZID=Europe/Oslo:20260422T115056
URL;VALUE=URI:https://baumholder.armymwr.com/calendar/event
DTSTART;TZID=Europe/Oslo:20241015T173000
DTEND;TZID=Europe/Oslo:20241015T203000
SEQUENCE:2
END:VEVENT
BEGIN:VEVENT
UID:sabre-vobject-cad96e8e-b215-409f-a1ba-0059a7a2bd26
DTSTAMP:20260425T152131Z
SUMMARY:Basic Training for New Parents - ONLINE
DESCRIPTION:Our Basic Training for New Parents Class provides essential edu
 cation on newborn care\, comforting techniques\, safe sleep practices\, an
 d more to help expecting and new parents feel confident on their parenting
  journey. Led by experienced instructors\, the interactive sessions foster
  community connections and empower you with the skills needed to thrive in
  the early weeks at home.&nbsp\;\n
X-ALT-DESC:FMTTYPE=text/html:<!DOCTYPE HTML PUBLIC "-//W3C//DTD HTML 3.2//E
 N"><HTML><p>Our Basic Training for New Parents Class provides essential ed
 ucation on newborn care\, comforting techniques\, safe sleep practices\, a
 nd more to help expecting and new parents feel confident on their parentin
 g journey. Led by experienced instructors\, the interactive sessions foste
 r community connections and empower you with the skills needed to thrive i
 n the early weeks at home.&nbsp\;</p>\n</HTML>
CREATED;TZID=Europe/Oslo:20260422T115056
URL;VALUE=URI:https://baumholder.armymwr.com/calendar/event
DTSTART;TZID=Europe/Oslo:20241119T173000
DTEND;TZID=Europe/Oslo:20241119T203000
SEQUENCE:3
END:VEVENT
BEGIN:VEVENT
UID:sabre-vobject-1f654622-27c3-406f-b498-6fdd48a51067
DTSTAMP:20260425T152131Z
SUMMARY:Basic Training for New Parents - ONLINE
DESCRIPTION:Our Basic Training for New Parents Class provides essential edu
 cation on newborn care\, comforting techniques\, safe sleep practices\, an
 d more to help expecting and new parents feel confident on their parenting
  journey. Led by experienced instructors\, the interactive sessions foster
  community connections and empower you with the skills needed to thrive in
  the early weeks at home.&nbsp\;\n
X-ALT-DESC:FMTTYPE=text/html:<!DOCTYPE HTML PUBLIC "-//W3C//DTD HTML 3.2//E
 N"><HTML><p>Our Basic Training for New Parents Class provides essential ed
 ucation on newborn care\, comforting techniques\, safe sleep practices\, a
 nd more to help expecting and new parents feel confident on their parentin
 g journey. Led by experienced instructors\, the interactive sessions foste
 r community connections and empower you with the skills needed to thrive i
 n the early weeks at home.&nbsp\;</p>\n</HTML>
CREATED;TZID=Europe/Oslo:20260422T115056
URL;VALUE=URI:https://baumholder.armymwr.com/calendar/event
DTSTART;TZID=Europe/Oslo:20241217T173000
DTEND;TZID=Europe/Oslo:20241217T203000
SEQUENCE:4
END:VEVENT
BEGIN:VEVENT
UID:sabre-vobject-66b86d70-fd23-4c85-bb8b-bf42345e1303
DTSTAMP:20260425T152131Z
SUMMARY:Basic Training for New Parents - ONLINE
DESCRIPTION:Our Basic Training for New Parents Class provides essential edu
 cation on newborn care\, comforting techniques\, safe sleep practices\, an
 d more to help expecting and new parents feel confident on their parenting
  journey. Led by experienced instructors\, the interactive sessions foster
  community connections and empower you with the skills needed to thrive in
  the early weeks at home.&nbsp\;\n
X-ALT-DESC:FMTTYPE=text/html:<!DOCTYPE HTML PUBLIC "-//W3C//DTD HTML 3.2//E
 N"><HTML><p>Our Basic Training for New Parents Class provides essential ed
 ucation on newborn care\, comforting techniques\, safe sleep practices\, a
 nd more to help expecting and new parents feel confident on their parentin
 g journey. Led by experienced instructors\, the interactive sessions foste
 r community connections and empower you with the skills needed to thrive i
 n the early weeks at home.&nbsp\;</p>\n</HTML>
CREATED;TZID=Europe/Oslo:20260422T115056
URL;VALUE=URI:https://baumholder.armymwr.com/calendar/event
DTSTART;TZID=Europe/Oslo:20250121T173000
DTEND;TZID=Europe/Oslo:20250121T203000
SEQUENCE:5
END:VEVENT
BEGIN:VEVENT
UID:sabre-vobject-bc7cc568-f86d-4b45-a5ef-4867cbb78133
DTSTAMP:20260425T152131Z
SUMMARY:Basic Training for New Parents - ONLINE
DESCRIPTION:Our Basic Training for New Parents Class provides essential edu
 cation on newborn care\, comforting techniques\, safe sleep practices\, an
 d more to help expecting and new parents feel confident on their parenting
  journey. Led by experienced instructors\, the interactive sessions foster
  community connections and empower you with the skills needed to thrive in
  the early weeks at home.&nbsp\;\n
X-ALT-DESC:FMTTYPE=text/html:<!DOCTYPE HTML PUBLIC "-//W3C//DTD HTML 3.2//E
 N"><HTML><p>Our Basic Training for New Parents Class provides essential ed
 ucation on newborn care\, comforting techniques\, safe sleep practices\, a
 nd more to help expecting and new parents feel confident on their parentin
 g journey. Led by experienced instructors\, the interactive sessions foste
 r community connections and empower you with the skills needed to thrive i
 n the early weeks at home.&nbsp\;</p>\n</HTML>
CREATED;TZID=Europe/Oslo:20260422T115056
URL;VALUE=URI:https://baumholder.armymwr.com/calendar/event
DTSTART;TZID=Europe/Oslo:20250218T173000
DTEND;TZID=Europe/Oslo:20250218T203000
SEQUENCE:6
END:VEVENT
BEGIN:VEVENT
UID:sabre-vobject-a2ccf348-0b70-4903-a2ff-f54bacef8669
DTSTAMP:20260425T152131Z
SUMMARY:Basic Training for New Parents - ONLINE
DESCRIPTION:Our Basic Training for New Parents Class provides essential edu
 cation on newborn care\, comforting techniques\, safe sleep practices\, an
 d more to help expecting and new parents feel confident on their parenting
  journey. Led by experienced instructors\, the interactive sessions foster
  community connections and empower you with the skills needed to thrive in
  the early weeks at home.&nbsp\;\n
X-ALT-DESC:FMTTYPE=text/html:<!DOCTYPE HTML PUBLIC "-//W3C//DTD HTML 3.2//E
 N"><HTML><p>Our Basic Training for New Parents Class provides essential ed
 ucation on newborn care\, comforting techniques\, safe sleep practices\, a
 nd more to help expecting and new parents feel confident on their parentin
 g journey. Led by experienced instructors\, the interactive sessions foste
 r community connections and empower you with the skills needed to thrive i
 n the early weeks at home.&nbsp\;</p>\n</HTML>
CREATED;TZID=Europe/Oslo:20260422T115056
URL;VALUE=URI:https://baumholder.armymwr.com/calendar/event
DTSTART;TZID=Europe/Oslo:20250318T173000
DTEND;TZID=Europe/Oslo:20250318T203000
SEQUENCE:7
END:VEVENT
BEGIN:VEVENT
UID:sabre-vobject-16c3d3de-0aed-48e9-af51-25fed356e544
DTSTAMP:20260425T152131Z
SUMMARY:Basic Training for New Parents - ONLINE
DESCRIPTION:Our Basic Training for New Parents Class provides essential edu
 cation on newborn care\, comforting techniques\, safe sleep practices\, an
 d more to help expecting and new parents feel confident on their parenting
  journey. Led by experienced instructors\, the interactive sessions foster
  community connections and empower you with the skills needed to thrive in
  the early weeks at home.&nbsp\;\n
X-ALT-DESC:FMTTYPE=text/html:<!DOCTYPE HTML PUBLIC "-//W3C//DTD HTML 3.2//E
 N"><HTML><p>Our Basic Training for New Parents Class provides essential ed
 ucation on newborn care\, comforting techniques\, safe sleep practices\, a
 nd more to help expecting and new parents feel confident on their parentin
 g journey. Led by experienced instructors\, the interactive sessions foste
 r community connections and empower you with the skills needed to thrive i
 n the early weeks at home.&nbsp\;</p>\n</HTML>
CREATED;TZID=Europe/Oslo:20260422T115056
URL;VALUE=URI:https://baumholder.armymwr.com/calendar/event
DTSTART;TZID=Europe/Oslo:20250415T173000
DTEND;TZID=Europe/Oslo:20250415T203000
SEQUENCE:8
END:VEVENT
BEGIN:VEVENT
UID:sabre-vobject-fbd5feba-3d4a-49cf-bea8-902718a86565
DTSTAMP:20260425T152131Z
SUMMARY:Basic Training for New Parents - ONLINE
DESCRIPTION:Our Basic Training for New Parents Class provides essential edu
 cation on newborn care\, comforting techniques\, safe sleep practices\, an
 d more to help expecting and new parents feel confident on their parenting
  journey. Led by experienced instructors\, the interactive sessions foster
  community connections and empower you with the skills needed to thrive in
  the early weeks at home.&nbsp\;\n
X-ALT-DESC:FMTTYPE=text/html:<!DOCTYPE HTML PUBLIC "-//W3C//DTD HTML 3.2//E
 N"><HTML><p>Our Basic Training for New Parents Class provides essential ed
 ucation on newborn care\, comforting techniques\, safe sleep practices\, a
 nd more to help expecting and new parents feel confident on their parentin
 g journey. Led by experienced instructors\, the interactive sessions foste
 r community connections and empower you with the skills needed to thrive i
 n the early weeks at home.&nbsp\;</p>\n</HTML>
CREATED;TZID=Europe/Oslo:20260422T115056
URL;VALUE=URI:https://baumholder.armymwr.com/calendar/event
DTSTART;TZID=Europe/Oslo:20250520T173000
DTEND;TZID=Europe/Oslo:20250520T203000
SEQUENCE:9
END:VEVENT
BEGIN:VEVENT
UID:sabre-vobject-1266a188-b96a-4937-b0ed-8b6e2473af42
DTSTAMP:20260425T152131Z
SUMMARY:Basic Training for New Parents - ONLINE
DESCRIPTION:Our Basic Training for New Parents Class provides essential edu
 cation on newborn care\, comforting techniques\, safe sleep practices\, an
 d more to help expecting and new parents feel confident on their parenting
  journey. Led by experienced instructors\, the interactive sessions foster
  community connections and empower you with the skills needed to thrive in
  the early weeks at home.&nbsp\;\n
X-ALT-DESC:FMTTYPE=text/html:<!DOCTYPE HTML PUBLIC "-//W3C//DTD HTML 3.2//E
 N"><HTML><p>Our Basic Training for New Parents Class provides essential ed
 ucation on newborn care\, comforting techniques\, safe sleep practices\, a
 nd more to help expecting and new parents feel confident on their parentin
 g journey. Led by experienced instructors\, the interactive sessions foste
 r community connections and empower you with the skills needed to thrive i
 n the early weeks at home.&nbsp\;</p>\n</HTML>
CREATED;TZID=Europe/Oslo:20260422T115056
URL;VALUE=URI:https://baumholder.armymwr.com/calendar/event
DTSTART;TZID=Europe/Oslo:20250617T173000
DTEND;TZID=Europe/Oslo:20250617T203000
SEQUENCE:10
END:VEVENT
BEGIN:VEVENT
UID:sabre-vobject-6950954d-9231-4b66-b0de-ba2cd941c00b
DTSTAMP:20260425T152131Z
SUMMARY:Basic Training for New Parents - ONLINE
DESCRIPTION:Our Basic Training for New Parents Class provides essential edu
 cation on newborn care\, comforting techniques\, safe sleep practices\, an
 d more to help expecting and new parents feel confident on their parenting
  journey. Led by experienced instructors\, the interactive sessions foster
  community connections and empower you with the skills needed to thrive in
  the early weeks at home.&nbsp\;\n
X-ALT-DESC:FMTTYPE=text/html:<!DOCTYPE HTML PUBLIC "-//W3C//DTD HTML 3.2//E
 N"><HTML><p>Our Basic Training for New Parents Class provides essential ed
 ucation on newborn care\, comforting techniques\, safe sleep practices\, a
 nd more to help expecting and new parents feel confident on their parentin
 g journey. Led by experienced instructors\, the interactive sessions foste
 r community connections and empower you with the skills needed to thrive i
 n the early weeks at home.&nbsp\;</p>\n</HTML>
CREATED;TZID=Europe/Oslo:20260422T115056
URL;VALUE=URI:https://baumholder.armymwr.com/calendar/event
DTSTART;TZID=Europe/Oslo:20250715T173000
DTEND;TZID=Europe/Oslo:20250715T203000
SEQUENCE:11
END:VEVENT
BEGIN:VEVENT
UID:sabre-vobject-a6258632-1e29-4955-8b85-a4fce6b415bd
DTSTAMP:20260425T152131Z
SUMMARY:Basic Training for New Parents - ONLINE
DESCRIPTION:Our Basic Training for New Parents Class provides essential edu
 cation on newborn care\, comforting techniques\, safe sleep practices\, an
 d more to help expecting and new parents feel confident on their parenting
  journey. Led by experienced instructors\, the interactive sessions foster
  community connections and empower you with the skills needed to thrive in
  the early weeks at home.&nbsp\;\n
X-ALT-DESC:FMTTYPE=text/html:<!DOCTYPE HTML PUBLIC "-//W3C//DTD HTML 3.2//E
 N"><HTML><p>Our Basic Training for New Parents Class provides essential ed
 ucation on newborn care\, comforting techniques\, safe sleep practices\, a
 nd more to help expecting and new parents feel confident on their parentin
 g journey. Led by experienced instructors\, the interactive sessions foste
 r community connections and empower you with the skills needed to thrive i
 n the early weeks at home.&nbsp\;</p>\n</HTML>
CREATED;TZID=Europe/Oslo:20260422T115056
URL;VALUE=URI:https://baumholder.armymwr.com/calendar/event
DTSTART;TZID=Europe/Oslo:20250819T173000
DTEND;TZID=Europe/Oslo:20250819T203000
SEQUENCE:12
END:VEVENT
BEGIN:VEVENT
UID:sabre-vobject-32347e17-409c-43f9-b469-f0188a2f17d4
DTSTAMP:20260425T152131Z
SUMMARY:Basic Training for New Parents - ONLINE
DESCRIPTION:Our Basic Training for New Parents Class provides essential edu
 cation on newborn care\, comforting techniques\, safe sleep practices\, an
 d more to help expecting and new parents feel confident on their parenting
  journey. Led by experienced instructors\, the interactive sessions foster
  community connections and empower you with the skills needed to thrive in
  the early weeks at home.&nbsp\;\n
X-ALT-DESC:FMTTYPE=text/html:<!DOCTYPE HTML PUBLIC "-//W3C//DTD HTML 3.2//E
 N"><HTML><p>Our Basic Training for New Parents Class provides essential ed
 ucation on newborn care\, comforting techniques\, safe sleep practices\, a
 nd more to help expecting and new parents feel confident on their parentin
 g journey. Led by experienced instructors\, the interactive sessions foste
 r community connections and empower you with the skills needed to thrive i
 n the early weeks at home.&nbsp\;</p>\n</HTML>
CREATED;TZID=Europe/Oslo:20260422T115056
URL;VALUE=URI:https://baumholder.armymwr.com/calendar/event
DTSTART;TZID=Europe/Oslo:20250929T090000
DTEND;TZID=Europe/Oslo:20250929T130000
SEQUENCE:13
END:VEVENT
BEGIN:VEVENT
UID:sabre-vobject-095aafa0-46c3-4505-9ecb-f4a5b1f9c7ca
DTSTAMP:20260425T152131Z
SUMMARY:Basic Training for New Parents - ONLINE
DESCRIPTION:Our Basic Training for New Parents Class provides essential edu
 cation on newborn care\, comforting techniques\, safe sleep practices\, an
 d more to help expecting and new parents feel confident on their parenting
  journey. Led by experienced instructors\, the interactive sessions foster
  community connections and empower you with the skills needed to thrive in
  the early weeks at home.&nbsp\;\n
X-ALT-DESC:FMTTYPE=text/html:<!DOCTYPE HTML PUBLIC "-//W3C//DTD HTML 3.2//E
 N"><HTML><p>Our Basic Training for New Parents Class provides essential ed
 ucation on newborn care\, comforting techniques\, safe sleep practices\, a
 nd more to help expecting and new parents feel confident on their parentin
 g journey. Led by experienced instructors\, the interactive sessions foste
 r community connections and empower you with the skills needed to thrive i
 n the early weeks at home.&nbsp\;</p>\n</HTML>
CREATED;TZID=Europe/Oslo:20260422T115056
URL;VALUE=URI:https://baumholder.armymwr.com/calendar/event
DTSTART;TZID=Europe/Oslo:20250916T173000
DTEND;TZID=Europe/Oslo:20250916T203000
SEQUENCE:14
END:VEVENT
BEGIN:VEVENT
UID:sabre-vobject-5f3c529a-a2f6-4bf7-b3a6-ec2ea3fc2072
DTSTAMP:20260425T152131Z
SUMMARY:Basic Training for New Parents - ONLINE
DESCRIPTION:Our Basic Training for New Parents Class provides essential edu
 cation on newborn care\, comforting techniques\, safe sleep practices\, an
 d more to help expecting and new parents feel confident on their parenting
  journey. Led by experienced instructors\, the interactive sessions foster
  community connections and empower you with the skills needed to thrive in
  the early weeks at home.&nbsp\;\n
X-ALT-DESC:FMTTYPE=text/html:<!DOCTYPE HTML PUBLIC "-//W3C//DTD HTML 3.2//E
 N"><HTML><p>Our Basic Training for New Parents Class provides essential ed
 ucation on newborn care\, comforting techniques\, safe sleep practices\, a
 nd more to help expecting and new parents feel confident on their parentin
 g journey. Led by experienced instructors\, the interactive sessions foste
 r community connections and empower you with the skills needed to thrive i
 n the early weeks at home.&nbsp\;</p>\n</HTML>
CREATED;TZID=Europe/Oslo:20260422T115056
URL;VALUE=URI:https://baumholder.armymwr.com/calendar/event
DTSTART;TZID=Europe/Oslo:20251021T173000
DTEND;TZID=Europe/Oslo:20251021T203000
SEQUENCE:15
END:VEVENT
BEGIN:VEVENT
UID:sabre-vobject-ca2c2432-20f8-40ae-9be4-a66c639116b7
DTSTAMP:20260425T152131Z
SUMMARY:Basic Training for New Parents - ONLINE
DESCRIPTION:Our Basic Training for New Parents Class provides essential edu
 cation on newborn care\, comforting techniques\, safe sleep practices\, an
 d more to help expecting and new parents feel confident on their parenting
  journey. Led by experienced instructors\, the interactive sessions foster
  community connections and empower you with the skills needed to thrive in
  the early weeks at home.&nbsp\;\n
X-ALT-DESC:FMTTYPE=text/html:<!DOCTYPE HTML PUBLIC "-//W3C//DTD HTML 3.2//E
 N"><HTML><p>Our Basic Training for New Parents Class provides essential ed
 ucation on newborn care\, comforting techniques\, safe sleep practices\, a
 nd more to help expecting and new parents feel confident on their parentin
 g journey. Led by experienced instructors\, the interactive sessions foste
 r community connections and empower you with the skills needed to thrive i
 n the early weeks at home.&nbsp\;</p>\n</HTML>
CREATED;TZID=Europe/Oslo:20260422T115056
URL;VALUE=URI:https://baumholder.armymwr.com/calendar/event
DTSTART;TZID=Europe/Oslo:20251117T090000
DTEND;TZID=Europe/Oslo:20251117T130000
SEQUENCE:16
END:VEVENT
BEGIN:VEVENT
UID:sabre-vobject-228caabb-c26e-4f7a-bdf8-70ae49cad04d
DTSTAMP:20260425T152131Z
SUMMARY:Basic Training for New Parents - ONLINE
DESCRIPTION:Our Basic Training for New Parents Class provides essential edu
 cation on newborn care\, comforting techniques\, safe sleep practices\, an
 d more to help expecting and new parents feel confident on their parenting
  journey. Led by experienced instructors\, the interactive sessions foster
  community connections and empower you with the skills needed to thrive in
  the early weeks at home.&nbsp\;\n
X-ALT-DESC:FMTTYPE=text/html:<!DOCTYPE HTML PUBLIC "-//W3C//DTD HTML 3.2//E
 N"><HTML><p>Our Basic Training for New Parents Class provides essential ed
 ucation on newborn care\, comforting techniques\, safe sleep practices\, a
 nd more to help expecting and new parents feel confident on their parentin
 g journey. Led by experienced instructors\, the interactive sessions foste
 r community connections and empower you with the skills needed to thrive i
 n the early weeks at home.&nbsp\;</p>\n</HTML>
CREATED;TZID=Europe/Oslo:20260422T115056
URL;VALUE=URI:https://baumholder.armymwr.com/calendar/event
DTSTART;TZID=Europe/Oslo:20251215T090000
DTEND;TZID=Europe/Oslo:20251215T130000
SEQUENCE:17
END:VEVENT
BEGIN:VEVENT
UID:sabre-vobject-156b99d4-073c-499a-8ef5-3a933314a732
DTSTAMP:20260425T152131Z
SUMMARY:Basic Training for New Parents - ONLINE
DESCRIPTION:Our Basic Training for New Parents Class provides essential edu
 cation on newborn care\, comforting techniques\, safe sleep practices\, an
 d more to help expecting and new parents feel confident on their parenting
  journey. Led by experienced instructors\, the interactive sessions foster
  community connections and empower you with the skills needed to thrive in
  the early weeks at home.&nbsp\;\n
X-ALT-DESC:FMTTYPE=text/html:<!DOCTYPE HTML PUBLIC "-//W3C//DTD HTML 3.2//E
 N"><HTML><p>Our Basic Training for New Parents Class provides essential ed
 ucation on newborn care\, comforting techniques\, safe sleep practices\, a
 nd more to help expecting and new parents feel confident on their parentin
 g journey. Led by experienced instructors\, the interactive sessions foste
 r community connections and empower you with the skills needed to thrive i
 n the early weeks at home.&nbsp\;</p>\n</HTML>
CREATED;TZID=Europe/Oslo:20260422T115056
URL;VALUE=URI:https://baumholder.armymwr.com/calendar/event
DTSTART;TZID=Europe/Oslo:20251217T173000
DTEND;TZID=Europe/Oslo:20251217T203000
SEQUENCE:18
END:VEVENT
BEGIN:VEVENT
UID:sabre-vobject-8ef75e3e-e692-486d-ae54-39e3331cb038
DTSTAMP:20260425T152131Z
SUMMARY:Basic Training for New Parents - ONLINE
DESCRIPTION:Our Basic Training for New Parents Class provides essential edu
 cation on newborn care\, comforting techniques\, safe sleep practices\, an
 d more to help expecting and new parents feel confident on their parenting
  journey. Led by experienced instructors\, the interactive sessions foster
  community connections and empower you with the skills needed to thrive in
  the early weeks at home.&nbsp\;\n
X-ALT-DESC:FMTTYPE=text/html:<!DOCTYPE HTML PUBLIC "-//W3C//DTD HTML 3.2//E
 N"><HTML><p>Our Basic Training for New Parents Class provides essential ed
 ucation on newborn care\, comforting techniques\, safe sleep practices\, a
 nd more to help expecting and new parents feel confident on their parentin
 g journey. Led by experienced instructors\, the interactive sessions foste
 r community connections and empower you with the skills needed to thrive i
 n the early weeks at home.&nbsp\;</p>\n</HTML>
CREATED;TZID=Europe/Oslo:20260422T115056
URL;VALUE=URI:https://baumholder.armymwr.com/calendar/event
DTSTART;TZID=Europe/Oslo:20260316T090000
DTEND;TZID=Europe/Oslo:20260316T130000
SEQUENCE:19
END:VEVENT
BEGIN:VEVENT
UID:sabre-vobject-b3a257ed-54d9-445c-bf24-02eb8d51ce90
DTSTAMP:20260425T152131Z
SUMMARY:Basic Training for New Parents - ONLINE
DESCRIPTION:Our Basic Training for New Parents Class provides essential edu
 cation on newborn care\, comforting techniques\, safe sleep practices\, an
 d more to help expecting and new parents feel confident on their parenting
  journey. Led by experienced instructors\, the interactive sessions foster
  community connections and empower you with the skills needed to thrive in
  the early weeks at home.&nbsp\;\n
X-ALT-DESC:FMTTYPE=text/html:<!DOCTYPE HTML PUBLIC "-//W3C//DTD HTML 3.2//E
 N"><HTML><p>Our Basic Training for New Parents Class provides essential ed
 ucation on newborn care\, comforting techniques\, safe sleep practices\, a
 nd more to help expecting and new parents feel confident on their parentin
 g journey. Led by experienced instructors\, the interactive sessions foste
 r community connections and empower you with the skills needed to thrive i
 n the early weeks at home.&nbsp\;</p>\n</HTML>
CREATED;TZID=Europe/Oslo:20260422T115056
URL;VALUE=URI:https://baumholder.armymwr.com/calendar/event
DTSTART;TZID=Europe/Oslo:20260318T173000
DTEND;TZID=Europe/Oslo:20260318T203000
SEQUENCE:20
END:VEVENT
BEGIN:VEVENT
UID:sabre-vobject-8a52698f-68d8-4f28-bfcd-3b366677853d
DTSTAMP:20260425T152131Z
SUMMARY:Basic Training for New Parents - ONLINE
DESCRIPTION:Our Basic Training for New Parents Class provides essential edu
 cation on newborn care\, comforting techniques\, safe sleep practices\, an
 d more to help expecting and new parents feel confident on their parenting
  journey. Led by experienced instructors\, the interactive sessions foster
  community connections and empower you with the skills needed to thrive in
  the early weeks at home.&nbsp\;\n
X-ALT-DESC:FMTTYPE=text/html:<!DOCTYPE HTML PUBLIC "-//W3C//DTD HTML 3.2//E
 N"><HTML><p>Our Basic Training for New Parents Class provides essential ed
 ucation on newborn care\, comforting techniques\, safe sleep practices\, a
 nd more to help expecting and new parents feel confident on their parentin
 g journey. Led by experienced instructors\, the interactive sessions foste
 r community connections and empower you with the skills needed to thrive i
 n the early weeks at home.&nbsp\;</p>\n</HTML>
CREATED;TZID=Europe/Oslo:20260422T115056
URL;VALUE=URI:https://baumholder.armymwr.com/calendar/event
DTSTART;TZID=Europe/Oslo:20260415T173000
DTEND;TZID=Europe/Oslo:20260415T203000
SEQUENCE:21
END:VEVENT
BEGIN:VEVENT
UID:sabre-vobject-f2b5862c-34a5-4de2-98c0-49db3b8b1861
DTSTAMP:20260425T152131Z
SUMMARY:Basic Training for New Parents - ONLINE
DESCRIPTION:Our Basic Training for New Parents Class provides essential edu
 cation on newborn care\, comforting techniques\, safe sleep practices\, an
 d more to help expecting and new parents feel confident on their parenting
  journey. Led by experienced instructors\, the interactive sessions foster
  community connections and empower you with the skills needed to thrive in
  the early weeks at home.&nbsp\;\n
X-ALT-DESC:FMTTYPE=text/html:<!DOCTYPE HTML PUBLIC "-//W3C//DTD HTML 3.2//E
 N"><HTML><p>Our Basic Training for New Parents Class provides essential ed
 ucation on newborn care\, comforting techniques\, safe sleep practices\, a
 nd more to help expecting and new parents feel confident on their parentin
 g journey. Led by experienced instructors\, the interactive sessions foste
 r community connections and empower you with the skills needed to thrive i
 n the early weeks at home.&nbsp\;</p>\n</HTML>
CREATED;TZID=Europe/Oslo:20260422T115056
URL;VALUE=URI:https://baumholder.armymwr.com/calendar/event
DTSTART;TZID=Europe/Oslo:20260519T173000
DTEND;TZID=Europe/Oslo:20260519T203000
SEQUENCE:22
END:VEVENT
END:VCALENDAR
