BEGIN:VCALENDAR
VERSION:2.0
PRODID:-//Sabre//Sabre VObject 4.5.8//EN
CALSCALE:GREGORIAN
BEGIN:VEVENT
UID:sabre-vobject-60c9a24b-892c-47c0-92c5-12059f239598
DTSTAMP:20260419T203402Z
SUMMARY:Youth Sports Golf Clinic Registration
DESCRIPTION:This is a SNAG (Starting New at Golf) Clinic for young beginner
 s\n
X-ALT-DESC:FMTTYPE=text/html:<!DOCTYPE HTML PUBLIC "-//W3C//DTD HTML 3.2//E
 N"><HTML><p>This is a SNAG (Starting New at Golf) Clinic for young beginne
 rs</p>\n</HTML>
CREATED;TZID=Europe/Oslo:20240325T100016
URL;VALUE=URI:https://baumholder.armymwr.com/calendar/event
DTSTART;TZID=Europe/Oslo:20240325T000000
DTEND;TZID=Europe/Oslo:20240407T235959
SEQUENCE:0
END:VEVENT
END:VCALENDAR
